BEGIN:VCALENDAR
VERSION:2.0
PRODID:-//hacksw/handcal//NONSGML v1.0//EN
BEGIN:VEVENT
SUMMARY:Tout Angers bouge
UID:b86e4c8f-77a0-4fb5-88b2-fadbff048a7f
DTSTART:20260606T220000Z
DTEND:20260607T220000Z
LOCATION:Localisation Centre nautique du Lac de Maine  angers
CATEGORIES:Sportif
STATUS:
DESCRIPTION:<p>Plus d'informations sur le site de la <a
 href="https://www.angers.fr/vivre-a-angers/sport/les-loisirs-sportifs/tout-angers-bouge/index.html#:~:text=Rendez-vous%20dimanche%207%20juin,au%20c%C5%93ur%20du%20patrimoine%20angevin."
 target="_blank" rel="noreferrer noopener">ville d'Angers</a>.</p>
URL;VALUE=URI:https://cd49mjsea.sportsregions.fr/evenements/2026/06/07/tout-angers-bouge-2438962
END:VEVENT
END:VCALENDAR
